BEGIN:VCALENDAR
VERSION:2.0
METHOD:PUBLISH
X-WR-CALNAME: Calendar | Freemasons SA & NT
PRODID:-//Drupal iCal API//EN
BEGIN:VEVENT
UID:calendar.11589.field_event_time.0.0
SUMMARY:Ridgehaven Daytime Lodge
DTSTAMP:20190227T224400Z
DTSTART:20190227T000000Z
DTEND:20190227T013000Z
URL;VALUE=URI:http://www.santfreemasons.org.au/event/ridgehaven-daytime-lodge-10
END:VEVENT
BEGIN:VEVENT
UID:calendar.11542.field_event_time.0.1
SUMMARY:Lodge St. John
DTSTAMP:20190227T224400Z
DTSTART:20190227T090000Z
DTEND:20190227T113000Z
URL;VALUE=URI:http://www.santfreemasons.org.au/event/lodge-st-john-42
END:VEVENT
BEGIN:VEVENT
UID:calendar.11564.field_event_time.0.2
SUMMARY:Adelaide RAC
DTSTAMP:20190227T224400Z
DTSTART:20190227T090000Z
DTEND:20190227T123000Z
URL;VALUE=URI:http://www.santfreemasons.org.au/event/adelaide-rac
END:VEVENT
BEGIN:VEVENT
UID:calendar.11474.field_event_time.0.3
SUMMARY:The Henley Lodge
DTSTAMP:20190227T224400Z
DTSTART:20190228T090000Z
DTEND:20190228T090000Z
URL;VALUE=URI:http://www.santfreemasons.org.au/event/henley-lodge-44
END:VEVENT
BEGIN:VEVENT
UID:calendar.11523.field_event_time.0.4
SUMMARY:Balaklava-Owen Lodge
DTSTAMP:20190227T224400Z
DTSTART:20190228T091500Z
DTEND:20190228T113000Z
URL;VALUE=URI:http://www.santfreemasons.org.au/event/balaklava-owen-lodge-28
END:VEVENT
BEGIN:VEVENT
UID:calendar.11395.field_event_time.0.5
SUMMARY:The Yorke Valley Lodge
DTSTAMP:20190227T224400Z
DTSTART:20190301T001000Z
DTEND:20190301T001000Z
URL;VALUE=URI:http://www.santfreemasons.org.au/event/yorke-valley-lodge-45
END:VEVENT
BEGIN:VEVENT
UID:calendar.11511.field_event_time.0.6
SUMMARY:Lodge Copernicus
DTSTAMP:20190227T224400Z
DTSTART:20190301T080000Z
DTEND:20190301T123000Z
URL;VALUE=URI:http://www.santfreemasons.org.au/event/lodge-copernicus-25
END:VEVENT
BEGIN:VEVENT
UID:calendar.11581.field_event_time.0.7
SUMMARY:Thorngate Lodge
DTSTAMP:20190227T224400Z
DTSTART:20190301T084500Z
DTEND:20190301T113000Z
URL;VALUE=URI:http://www.santfreemasons.org.au/event/thorngate-lodge-42
END:VEVENT
BEGIN:VEVENT
UID:calendar.11396.field_event_time.0.8
SUMMARY:Ardrossan Lodge
DTSTAMP:20190227T224400Z
DTSTART:20190302T001100Z
DTEND:20190302T001100Z
URL;VALUE=URI:http://www.santfreemasons.org.au/event/ardrossan-lodge-48
END:VEVENT
BEGIN:VEVENT
UID:calendar.11587.field_event_time.0.9
SUMMARY:Hawthorn Lewis Lodge
DTSTAMP:20190227T224400Z
DTSTART:20190304T000000Z
DTEND:20190304T013000Z
URL;VALUE=URI:http://www.santfreemasons.org.au/event/hawthorn-lewis-lodge-53
END:VEVENT
BEGIN:VEVENT
UID:calendar.11586.field_event_time.0.10
SUMMARY:Mypolonga Lodge
DTSTAMP:20190227T224400Z
DTSTART:20190305T000000Z
DTEND:20190305T063000Z
URL;VALUE=URI:http://www.santfreemasons.org.au/event/mypolonga-lodge-30
END:VEVENT
BEGIN:VEVENT
UID:calendar.11566.field_event_time.0.11
SUMMARY:Duke of Leinster Lodge
DTSTAMP:20190227T224400Z
DTSTART:20190305T084500Z
DTEND:20190305T110000Z
URL;VALUE=URI:http://www.santfreemasons.org.au/event/duke-leinster-lodge-19
END:VEVENT
BEGIN:VEVENT
UID:calendar.11554.field_event_time.0.12
SUMMARY:Mostyn Goodwood & Loyalty
DTSTAMP:20190227T224400Z
DTSTART:20190306T090000Z
DTEND:20190306T120000Z
URL;VALUE=URI:http://www.santfreemasons.org.au/event/mostyn-goodwood-loyalty-54
END:VEVENT
BEGIN:VEVENT
UID:calendar.11411.field_event_time.0.13
SUMMARY:Supreme Grand Royal Arch Chapter of New Zealand Annual Grand Convocation
DTSTAMP:20190227T224400Z
DTSTART:20190306T213000Z
DTEND:20190310T113000Z
URL;VALUE=URI:http://www.santfreemasons.org.au/event/supreme-grand-royal-arch-chapter-new-zealand-annual-grand-convocation
END:VEVENT
BEGIN:VEVENT
UID:calendar.11473.field_event_time.0.14
SUMMARY:Lodge Baden-Powell Annual Uniform Night
DTSTAMP:20190227T224400Z
DTSTART:20190307T090000Z
DTEND:20190307T113000Z
URL;VALUE=URI:http://www.santfreemasons.org.au/event/lodge-baden-powell-annual-uniform-night-1
END:VEVENT
BEGIN:VEVENT
UID:calendar.11590.field_event_time.0.15
SUMMARY:Ridgehaven Daytime Lodge
DTSTAMP:20190227T224400Z
DTSTART:20190308T000000Z
DTEND:20190308T013000Z
URL;VALUE=URI:http://www.santfreemasons.org.au/event/ridgehaven-daytime-lodge-11
END:VEVENT
BEGIN:VEVENT
UID:calendar.11558.field_event_time.0.16
SUMMARY:Edwardstown Lewis Lodge
DTSTAMP:20190227T224400Z
DTSTART:20190311T084500Z
DTEND:20190311T120300Z
URL;VALUE=URI:http://www.santfreemasons.org.au/event/edwardstown-lewis-lodge-56
END:VEVENT
BEGIN:VEVENT
UID:calendar.11397.field_event_time.0.17
SUMMARY:Lodge of Endeavour
DTSTAMP:20190227T224400Z
DTSTART:20190314T000000Z
DTEND:20190314T013000Z
URL;VALUE=URI:http://www.santfreemasons.org.au/event/lodge-endeavour-58
END:VEVENT
BEGIN:VEVENT
UID:calendar.11399.field_event_time.0.18
SUMMARY:Le Hunte Lodge
DTSTAMP:20190227T224400Z
DTSTART:20190314T004100Z
DTEND:20190314T004100Z
URL;VALUE=URI:http://www.santfreemasons.org.au/event/le-hunte-lodge-29
END:VEVENT
BEGIN:VEVENT
UID:calendar.11385.field_event_time.0.19
SUMMARY:Lodge St Alban
DTSTAMP:20190227T224400Z
DTSTART:20190314T080000Z
DTEND:20190314T123000Z
URL;VALUE=URI:http://www.santfreemasons.org.au/event/lodge-st-alban-6
END:VEVENT
BEGIN:VEVENT
UID:calendar.11400.field_event_time.0.20
SUMMARY:Lodge Sirius
DTSTAMP:20190227T224400Z
DTSTART:20190315T000000Z
DTEND:20190315T013000Z
URL;VALUE=URI:http://www.santfreemasons.org.au/event/lodge-sirius-48
END:VEVENT
BEGIN:VEVENT
UID:calendar.11402.field_event_time.0.21
SUMMARY:Lewis Lodge of Brighton
DTSTAMP:20190227T224400Z
DTSTART:20190316T084500Z
DTEND:20190316T113000Z
URL;VALUE=URI:http://www.santfreemasons.org.au/event/lewis-lodge-brighton-59
END:VEVENT
BEGIN:VEVENT
UID:calendar.11401.field_event_time.0.22
SUMMARY:Port Lincoln Lodge
DTSTAMP:20190227T224400Z
DTSTART:20190316T090000Z
DTEND:20190316T113000Z
URL;VALUE=URI:http://www.santfreemasons.org.au/event/port-lincoln-lodge-48
END:VEVENT
BEGIN:VEVENT
UID:calendar.11403.field_event_time.0.23
SUMMARY:Hore-Ruthven Lodge
DTSTAMP:20190227T224400Z
DTSTART:20190318T005000Z
DTEND:20190318T005000Z
URL;VALUE=URI:http://www.santfreemasons.org.au/event/hore-ruthven-lodge-1
END:VEVENT
BEGIN:VEVENT
UID:calendar.11561.field_event_time.0.24
SUMMARY:Lodge Reynell
DTSTAMP:20190227T224400Z
DTSTART:20190318T074500Z
DTEND:20190318T113000Z
URL;VALUE=URI:http://www.santfreemasons.org.au/event/lodge-reynell-33
END:VEVENT
BEGIN:VEVENT
UID:calendar.11512.field_event_time.0.25
SUMMARY:Adelaide Lodge
DTSTAMP:20190227T224400Z
DTSTART:20190319T084500Z
DTEND:20190319T123000Z
URL;VALUE=URI:http://www.santfreemasons.org.au/event/adelaide-lodge-2%C2%B0-0
END:VEVENT
BEGIN:VEVENT
UID:calendar.11404.field_event_time.0.26
SUMMARY:Hyde Park - Bankers Lodge
DTSTAMP:20190227T224400Z
DTSTART:20190321T083000Z
DTEND:20190321T113000Z
URL;VALUE=URI:http://www.santfreemasons.org.au/event/hyde-park-bankers-lodge-26
END:VEVENT
BEGIN:VEVENT
UID:calendar.11582.field_event_time.0.27
SUMMARY:Enfield Lodge
DTSTAMP:20190227T224400Z
DTSTART:20190321T084500Z
DTEND:20190321T113000Z
URL;VALUE=URI:http://www.santfreemasons.org.au/event/enfield-lodge-33
END:VEVENT
BEGIN:VEVENT
UID:calendar.11588.field_event_time.0.28
SUMMARY:Elizabeth Daytime Lodge
DTSTAMP:20190227T224400Z
DTSTART:20190322T000000Z
DTEND:20190322T013000Z
URL;VALUE=URI:http://www.santfreemasons.org.au/event/elizabeth-daytime-lodge-53
END:VEVENT
BEGIN:VEVENT
UID:calendar.11506.field_event_time.0.29
SUMMARY:Lodge Kilwinning
DTSTAMP:20190227T224400Z
DTSTART:20190322T084500Z
DTEND:20190322T124500Z
URL;VALUE=URI:http://www.santfreemasons.org.au/event/lodge-kilwinning-37
END:VEVENT
BEGIN:VEVENT
UID:calendar.11584.field_event_time.0.30
SUMMARY:Lodge Kilwinning
DTSTAMP:20190227T224400Z
DTSTART:20190325T084500Z
DTEND:20190325T113000Z
URL;VALUE=URI:http://www.santfreemasons.org.au/event/lodge-kilwinning-38
END:VEVENT
BEGIN:VEVENT
UID:calendar.11320.field_event_time.0.31
SUMMARY:Hawthorn Chapter
DTSTAMP:20190227T224400Z
DTSTART:20190325T090000Z
DTEND:20190325T110000Z
URL;VALUE=URI:http://www.santfreemasons.org.au/event/hawthorn-chapter-8
END:VEVENT
BEGIN:VEVENT
UID:calendar.11575.field_event_time.0.32
SUMMARY:Exaltation of EMM Luke Edwards
DTSTAMP:20190227T224400Z
DTSTART:20190327T083000Z
DTEND:20190327T123000Z
URL;VALUE=URI:http://www.santfreemasons.org.au/event/exaltation-emm-luke-edwards
END:VEVENT
BEGIN:VEVENT
UID:calendar.11239.field_event_time.0.33
SUMMARY:Edwardstown Lodge
DTSTAMP:20190227T224400Z
DTSTART:20190329T084500Z
DTEND:20190329T120000Z
URL;VALUE=URI:http://www.santfreemasons.org.au/event/edwardstown-lodge-54
END:VEVENT
BEGIN:VEVENT
UID:calendar.11405.field_event_time.0.34
SUMMARY:Blackwood Lodge
DTSTAMP:20190227T224400Z
DTSTART:20190403T090000Z
DTEND:20190403T113000Z
URL;VALUE=URI:http://www.santfreemasons.org.au/event/blackwood-lodge-6
END:VEVENT
BEGIN:VEVENT
UID:calendar.11406.field_event_time.0.35
SUMMARY:The Perfect Cube Lodge
DTSTAMP:20190227T224400Z
DTSTART:20190406T084500Z
DTEND:20190406T113000Z
URL;VALUE=URI:http://www.santfreemasons.org.au/event/perfect-cube-lodge-48
END:VEVENT
BEGIN:VEVENT
UID:calendar.11407.field_event_time.0.36
SUMMARY:Salisbury Lodge
DTSTAMP:20190227T224400Z
DTSTART:20190406T090000Z
DTEND:20190406T113000Z
URL;VALUE=URI:http://www.santfreemasons.org.au/event/salisbury-lodge-35
END:VEVENT
BEGIN:VEVENT
UID:calendar.11559.field_event_time.0.37
SUMMARY:Edwardstown Lewis Lodge
DTSTAMP:20190227T224400Z
DTSTART:20190408T094500Z
DTEND:20190408T130300Z
URL;VALUE=URI:http://www.santfreemasons.org.au/event/edwardstown-lewis-lodge-no-207-3
END:VEVENT
BEGIN:VEVENT
UID:calendar.11410.field_event_time.0.38
SUMMARY:The Hope and Lewis Lodge
DTSTAMP:20190227T224400Z
DTSTART:20190409T095000Z
DTEND:20190409T123000Z
URL;VALUE=URI:http://www.santfreemasons.org.au/event/hope-and-lewis-lodge-54
END:VEVENT
BEGIN:VEVENT
UID:calendar.11571.field_event_time.0.39
SUMMARY:Lodge Concordia
DTSTAMP:20190227T224400Z
DTSTART:20190412T091500Z
DTEND:20190412T133000Z
URL;VALUE=URI:http://www.santfreemasons.org.au/event/lodge-concordia-37
END:VEVENT
BEGIN:VEVENT
UID:calendar.11409.field_event_time.0.40
SUMMARY:Elizabeth Lodge
DTSTAMP:20190227T224400Z
DTSTART:20190413T100000Z
DTEND:20190413T123000Z
URL;VALUE=URI:http://www.santfreemasons.org.au/event/elizabeth-lodge-46
END:VEVENT
BEGIN:VEVENT
UID:calendar.11562.field_event_time.0.41
SUMMARY:Lodge Reynell
DTSTAMP:20190227T224400Z
DTSTART:20190415T090000Z
DTEND:20190415T123000Z
URL;VALUE=URI:http://www.santfreemasons.org.au/event/lodge-reynell-34
END:VEVENT
BEGIN:VEVENT
UID:calendar.11513.field_event_time.0.42
SUMMARY:Adelaide Lodge
DTSTAMP:20190227T224400Z
DTSTART:20190416T094500Z
DTEND:20190416T133700Z
URL;VALUE=URI:http://www.santfreemasons.org.au/event/adelaide-lodge-68
END:VEVENT
BEGIN:VEVENT
UID:calendar.11240.field_event_time.0.43
SUMMARY:Edwardstown Lodge
DTSTAMP:20190227T224400Z
DTSTART:20190426T094500Z
DTEND:20190426T130000Z
URL;VALUE=URI:http://www.santfreemasons.org.au/event/edwardstown-lodge-55
END:VEVENT
BEGIN:VEVENT
UID:calendar.11569.field_event_time.0.44
SUMMARY:Lodge Kilwinning - Anzac Meeting
DTSTAMP:20190227T224400Z
DTSTART:20190426T094500Z
DTEND:20190426T133000Z
URL;VALUE=URI:http://www.santfreemasons.org.au/event/lodge-kilwinning-anzac-meeting-2
END:VEVENT
BEGIN:VEVENT
UID:calendar.11206.field_event_time.0.45
SUMMARY:TriUnity Grand Installations
DTSTAMP:20190227T224400Z
DTSTART:20190502T223000Z
DTEND:20190505T123000Z
URL;VALUE=URI:http://www.santfreemasons.org.au/event/triunity-grand-installations
END:VEVENT
BEGIN:VEVENT
UID:calendar.11160.field_event_time.0.46
SUMMARY:SGRAC of SA & the NT Grand Installation
DTSTAMP:20190227T224400Z
DTSTART:20190516T223000Z
DTEND:20190519T123000Z
URL;VALUE=URI:http://www.santfreemasons.org.au/event/sgrac-sa-nt-grand-installation
END:VEVENT
BEGIN:VEVENT
UID:calendar.11514.field_event_time.0.47
SUMMARY:Adelaide Lodge
DTSTAMP:20190227T224400Z
DTSTART:20190521T094500Z
DTEND:20190521T134100Z
URL;VALUE=URI:http://www.santfreemasons.org.au/event/adelaide-lodge-69
END:VEVENT
BEGIN:VEVENT
UID:calendar.11576.field_event_time.0.48
SUMMARY:United Collegians Chapter
DTSTAMP:20190227T224400Z
DTSTART:20190522T093000Z
DTEND:20190522T130000Z
URL;VALUE=URI:http://www.santfreemasons.org.au/event/united-collegians-chapter-7
END:VEVENT
BEGIN:VEVENT
UID:calendar.11565.field_event_time.0.49
SUMMARY:International Order of the Rainbow for Girls Philippines Trip
DTSTAMP:20190227T224400Z
DTSTART:20190523T223000Z
DTEND:20190603T123000Z
URL;VALUE=URI:http://www.santfreemasons.org.au/event/international-order-rainbow-girls-philippines-trip
END:VEVENT
BEGIN:VEVENT
UID:calendar.11570.field_event_time.0.50
SUMMARY:Lodge Kilwinning - Third Degree
DTSTAMP:20190227T224400Z
DTSTART:20190524T094500Z
DTEND:20190524T133000Z
URL;VALUE=URI:http://www.santfreemasons.org.au/event/lodge-kilwinning-third-degree
END:VEVENT
BEGIN:VEVENT
UID:calendar.11241.field_event_time.0.51
SUMMARY:Edwardstown Lodge
DTSTAMP:20190227T224400Z
DTSTART:20190531T094500Z
DTEND:20190531T130000Z
URL;VALUE=URI:http://www.santfreemasons.org.au/event/edwardstown-lodge-56
END:VEVENT
BEGIN:VEVENT
UID:calendar.11209.field_event_time.0.52
SUMMARY:Adelaide Lodge Installation
DTSTAMP:20190227T224400Z
DTSTART:20190618T084500Z
DTEND:20190618T130000Z
URL;VALUE=URI:http://www.santfreemasons.org.au/event/adelaide-lodge-installation
END:VEVENT
BEGIN:VEVENT
UID:calendar.11382.field_event_time.0.53
SUMMARY:GL of MMM of SA and the NT of Australia Annual Communication
DTSTAMP:20190227T224400Z
DTSTART:20190619T094500Z
DTEND:20190619T123000Z
URL;VALUE=URI:http://www.santfreemasons.org.au/event/gl-mmm-sa-and-nt-australia-annual-communication-0
END:VEVENT
BEGIN:VEVENT
UID:calendar.11242.field_event_time.0.54
SUMMARY:Edwardstown Lodge
DTSTAMP:20190227T224400Z
DTSTART:20190628T094500Z
DTEND:20190628T130000Z
URL;VALUE=URI:http://www.santfreemasons.org.au/event/edwardstown-lodge-57
END:VEVENT
BEGIN:VEVENT
UID:calendar.10663.field_event_time.0.55
SUMMARY:Duke of Edinburgh Lodge
DTSTAMP:20190227T224400Z
DTSTART:20190702T063400Z
DTEND:20190702T063400Z
URL;VALUE=URI:http://www.santfreemasons.org.au/event/duke-edinburgh-lodge-36
END:VEVENT
BEGIN:VEVENT
UID:calendar.11515.field_event_time.0.56
SUMMARY:Adelaide Lodge
DTSTAMP:20190227T224400Z
DTSTART:20190716T094500Z
DTEND:20190716T134400Z
URL;VALUE=URI:http://www.santfreemasons.org.au/event/adelaide-lodge-65
END:VEVENT
BEGIN:VEVENT
UID:calendar.11577.field_event_time.0.57
SUMMARY:United Collegians Chapter
DTSTAMP:20190227T224400Z
DTSTART:20190724T093000Z
DTEND:20190724T130000Z
URL;VALUE=URI:http://www.santfreemasons.org.au/event/united-collegians-chapter-8
END:VEVENT
BEGIN:VEVENT
UID:calendar.11243.field_event_time.0.58
SUMMARY:Edwardstown Lodge
DTSTAMP:20190227T224400Z
DTSTART:20190726T084500Z
DTEND:20190726T133000Z
URL;VALUE=URI:http://www.santfreemasons.org.au/event/edwardstown-lodge-58
END:VEVENT
BEGIN:VEVENT
UID:calendar.11578.field_event_time.0.59
SUMMARY:United Collegians Chapter Installation
DTSTAMP:20190227T224400Z
DTSTART:20190925T093000Z
DTEND:20190925T130000Z
URL;VALUE=URI:http://www.santfreemasons.org.au/event/united-collegians-chapter-installation
END:VEVENT
BEGIN:VEVENT
UID:calendar.9889.field_event_time.0.60
SUMMARY:Grand Lodge of New Zealand - Grand Installation
DTSTAMP:20190227T224400Z
DTSTART:20191114T213000Z
DTEND:20191117T113000Z
URL;VALUE=URI:http://www.santfreemasons.org.au/event/grand-lodge-new-zealand-grand-installation
END:VEVENT
BEGIN:VEVENT
UID:calendar.11579.field_event_time.0.61
SUMMARY:United Collegians Chapter
DTSTAMP:20190227T224400Z
DTSTART:20191127T083000Z
DTEND:20191127T120000Z
URL;VALUE=URI:http://www.santfreemasons.org.au/event/united-collegians-chapter-9
END:VEVENT
END:VCALENDAR
